BEGIN:VCALENDAR
VERSION:2.0
PRODID:-//wp-events-plugin.com//6.4.8//EN
TZID:Europe/London
X-WR-TIMEZONE:Europe/London
BEGIN:VEVENT
UID:342@autismsoutheast.co.uk
DTSTART;TZID=Europe/London:20200802T110000
DTEND;TZID=Europe/London:20200802T123000
DTSTAMP:20200723T223408Z
URL:https://www.autismsoutheast.co.uk/events/retro-gaming-morning-under-14
 s-2-2020-08-02/
SUMMARY:Retro Gaming Morning (Under 14s)
DESCRIPTION:Reanimated Games in Gravesend hold monthly autism friendly gami
 ng sessions in conjunction with Autism South East. These are chilled out\,
  informal sessions open to anyone (not necessarily with an asd diagnosis) 
 who would enjoy a calmer space.\n\nThe Under 14’s session runs from 11am
 -12:30pm. There is also an over 14’s session which runs monthly 6:45pm-9
 :30pm.\n\nSee all upcoming sessions at Reanimated Games\n\nThese sessions 
 are limited to 12 participants with 1 carer each. Price is £7 per child.\
 n\n Please note these are “stay and play” events so parents/carers wil
 l be required to stay.\n\nFor everyone's safety\, additional precautions w
 ill be in place such as screens\, contact tracing and regular cleaning.\n\
 n Free parking available in Rathmore Rd car park on Sundays.\n\nBooking\nP
 re-booking via Reanimated Games is required for this event! Please use the
  button below and follow the instructions on their website to book for thi
 s event:\n PRE-BOOK NOW\n&nbsp\;\nPlease be aware Autism South East has no
  control over the data submitted to external websites. If you experience a
 ny problems when booking\, you will need to contact Reanimated Games.\n\n
ATTACH;FMTTYPE=image/jpeg:https://www.autismsoutheast.co.uk/wp-content/upl
 oads/2020/07/RetroGamingMorning_U14_COVID_F1.png
CATEGORIES:Activities,Retro Gaming Session (RAG)
LOCATION:Reanimated Games\, Gravesend\, Reanimated Games\, 21 Darnley Road\
 , Gravesend\, Kent\, DA11 0RZ\, England\, United Kingdom
GEO:51.44078990000001;0.3648006999999325
X-APPLE-STRUCTURED-LOCATION;VALUE=URI;X-ADDRESS=Reanimated Games\, 21 Darnl
 ey Road\, Gravesend\, Kent\, DA11 0RZ\, England\, United Kingdom;X-APPLE-R
 ADIUS=100;X-TITLE=Reanimated Games\, Gravesend:geo:51.44078990000001,0.364
 8006999999325
END:VEVENT
BEGIN:VTIMEZONE
TZID:Europe/London
X-LIC-LOCATION:Europe/London
BEGIN:DAYLIGHT
DTSTART:20200329T020000
TZOFFSETFROM:+0000
TZOFFSETTO:+0100
TZNAME:BST
END:DAYLIGHT
END:VTIMEZONE
END:VCALENDAR