BEGIN:VCALENDAR
VERSION:2.0
PRODID:-//wp-events-plugin.com//6.4.8//EN
TZID:Europe/London
X-WR-TIMEZONE:Europe/London
BEGIN:VEVENT
UID:914@autismsoutheast.co.uk
DTSTART;TZID=Europe/London:20260512T181500
DTEND;TZID=Europe/London:20260512T201500
DTSTAMP:20251231T140419Z
URL:https://www.autismsoutheast.co.uk/events/nerf-battle-sessions-26-2026-
 05-12/
SUMMARY:NERF Battle Sessions
DESCRIPTION:Join us with Future Survival for 2hr autism-friendly Nerf sessi
 ons.\nBring your own gun\, we’ll provide the ammo!\n\n[icon name="money-
 bill" prefix="fas"] £13 per playing person.\n[icon name="mug-saucer" pref
 ix="fas"] Drinks and snacks will be available to buy. \n[icon name="person
 " prefix="fas"] Suitable for all ages 7+\, no formal diagnosis required\, 
 siblings welcome.  Parents/carers required to stay throughout for under 18
 s.\n[icon name="square-parking" prefix="fas"] Limited on-site parking avai
 lable.\n\n*See Upcoming Dates\n\n\nTickets\nBooking via Future Survival is
  required for this event! Please use the button below and follow the instr
 uctions on their website to book for this event (please check for the date
  you wish to book):\n Book Now\nPlease book a ticket for each playing pers
 on. Please be aware Autism South East has no control over the data submitt
 ed to external websites. If you experience any problems when booking\, you
  will need to contact Future Survival.\n\n\n&nbsp\;
ATTACH;FMTTYPE=image/jpeg:https://www.autismsoutheast.co.uk/wp-content/upl
 oads/2025/12/NERF_2026_F1.png
CATEGORIES:Activities,NERF
LOCATION:Future Survival\, 51-53 New Road\, Gravesham\, Kent\, DA11 0AD\, E
 ngland\, United Kingdom
GEO:51.442549;0.365066
X-APPLE-STRUCTURED-LOCATION;VALUE=URI;X-ADDRESS=51-53 New Road\, Gravesham\
 , Kent\, DA11 0AD\, England\, United Kingdom;X-APPLE-RADIUS=100;X-TITLE=Fu
 ture Survival:geo:51.442549,0.365066
END:VEVENT
BEGIN:VTIMEZONE
TZID:Europe/London
X-LIC-LOCATION:Europe/London
BEGIN:DAYLIGHT
DTSTART:20260329T020000
TZOFFSETFROM:+0000
TZOFFSETTO:+0100
TZNAME:BST
END:DAYLIGHT
END:VTIMEZONE
END:VCALENDAR