BEGIN:VCALENDAR
VERSION:2.0
PRODID:-//wp-events-plugin.com//6.4.8//EN
TZID:Europe/London
X-WR-TIMEZONE:Europe/London
BEGIN:VEVENT
UID:826@autismsoutheast.co.uk
DTSTART;TZID=Europe/London:20260227T173000
DTEND;TZID=Europe/London:20260227T190000
DTSTAMP:20251231T132002Z
URL:https://www.autismsoutheast.co.uk/events/lego-club-northfleet-26-2026-
 02-27/
SUMMARY:Lego Club Northfleet
DESCRIPTION:Join us for a creative play Lego session. Lego will be availabl
 e for imaginations to run wild!\n\n5:30-6:00pm\n\n*See Upcoming Dates (all
  locations)\nPlease book in advance below. If the booking section below is
  missing or says “closed”\, please click on the button above and ensur
 e you are on the page for the correct date.\n\n[icon name="location-dot" p
 refix="fas"] St Botolphs Church Hall\, The Hill\, Northfleet\, DA11 9EU\n\
 n[icon name="children" prefix="fas"] Suitable for ages 5-16 years.\n[icon 
 name="circle-exclamation" prefix="fas"] Parents are required to remain thr
 oughout.\n[icon name="coins" prefix="fas"] £4 per child\, refreshments av
 ailable to buy.
ATTACH;FMTTYPE=image/jpeg:https://www.autismsoutheast.co.uk/wp-content/upl
 oads/2025/12/LegoClubNF_2026_NoDate_1_F1.png
CATEGORIES:Lego Club
LOCATION:St Botolphs Church Hall\, The Hill\, Northfleet\, Kent\, DA11 9EU\
 , England\, United Kingdom
X-APPLE-STRUCTURED-LOCATION;VALUE=URI;X-ADDRESS=The Hill\, Northfleet\, Ken
 t\, DA11 9EU\, England\, United Kingdom;X-APPLE-RADIUS=100;X-TITLE=St Boto
 lphs Church Hall:geo:0,0
END:VEVENT
BEGIN:VTIMEZONE
TZID:Europe/London
X-LIC-LOCATION:Europe/London
BEGIN:STANDARD
DTSTART:20251026T010000
TZOFFSETFROM:+0100
TZOFFSETTO:+0000
TZNAME:GMT
END:STANDARD
END:VTIMEZONE
END:VCALENDAR