BEGIN:VCALENDAR
VERSION:2.0
PRODID:-//wp-events-plugin.com//6.4.8//EN
TZID:Europe/London
X-WR-TIMEZONE:Europe/London
BEGIN:VEVENT
UID:816@autismsoutheast.co.uk
DTSTART;TZID=Europe/London:20251230T190000
DTEND;TZID=Europe/London:20251230T210000
DTSTAMP:20251201T194516Z
URL:https://www.autismsoutheast.co.uk/events/adult-group/
SUMMARY:Adult Group
DESCRIPTION:We understand that as an autistic adult it can be difficult to 
 make friends or even find people to talk to sometimes.  Our Gravesend adul
 t group is an opportunity for anyone over 18 who is autistic\, or suspects
  they could be\, to meet others in a calm and understanding environment\, 
 without prejudice. \n\nThis social group will usually run every last Tuesd
 ay of the month*\n*See Upcoming Dates\n\nPictures of Marie's Tearoom:\n(Cl
 ick/tap to enlarge)\n[gallery link="file" ids="5013\,5012\,5014"]\n&nbsp\;
 \n\nGroup rules - be considerate and understanding of others\; Just be kin
 d.\nFailure to follow these rules may lead to you being asked to leave the
  group and the matter referred further if necessary. The group leaders sho
 uld be told of any concerns you may have.\n\n[icon name="circle-arrow-up" 
 prefix="fas"] Pre-booking is not required - just turn up!\n[icon name="id-
 card" prefix="fas"] You must be 18 or over to attend this group.\n[icon na
 me="notes-medical" prefix="fas"] No formal diagnosis required.\n[icon name
 ="mug-saucer" prefix="fas"] Refreshments available to buy.
ATTACH;FMTTYPE=image/jpeg:https://www.autismsoutheast.co.uk/wp-content/upl
 oads/2025/04/AutisticAdultsGroup_2025_F1.png
CATEGORIES:Gravesend,Gravesend Social Group,MTR,Support Groups
LOCATION:Marie's Tea Room & Emporium\, 22/23 High Street\, Gravesend\, Kent
 \, DA11 0BQ\, England\, United Kingdom
GEO:51.443619;0.369489
X-APPLE-STRUCTURED-LOCATION;VALUE=URI;X-ADDRESS=22/23 High Street\, Gravese
 nd\, Kent\, DA11 0BQ\, England\, United Kingdom;X-APPLE-RADIUS=100;X-TITLE
 =Marie's Tea Room & Emporium:geo:51.443619,0.369489
END:VEVENT
BEGIN:VTIMEZONE
TZID:Europe/London
X-LIC-LOCATION:Europe/London
BEGIN:STANDARD
DTSTART:20251026T010000
TZOFFSETFROM:+0100
TZOFFSETTO:+0000
TZNAME:GMT
END:STANDARD
END:VTIMEZONE
END:VCALENDAR